BEGIN:VCALENDAR
VERSION:2.0
TIMEZONE:Europe/Oslo
PRODID:w3-182290@uib.no
URL:https://www.uib.no/nb/samfunnsutfordringer/182290/lille-vestland-%E2%8
 0%93-store-eu-sikkerhet-og-beredskap
NAME:Lille Vestland – store EU: Sikkerhet og beredskap
BEGIN:VEVENT
UID:w3-182290@uib.no
DTSTAMP:20260415T113838Z
DTSTART:20260422T063000Z
DTEND:20260422T073000Z
SUMMARY:Lille Vestland – store EU: Sikkerhet og beredskap
DESCRIPTION:Hva betyr EU for Vestlandet, og hvilken betydning har
 Vestlandet for EU?
LOCATION:Bergen Global, Jekteviksbakken 31
URL:https://www.uib.no/nb/samfunnsutfordringer/182290/lille-vestland-%
 E2%80%93-store-eu-sikkerhet-og-beredskap
CLASS:PUBLIC
TRANSP:TRANSPARENT
END:VEVENT
END:VCALENDAR

