BEGIN:VCALENDAR
VERSION:2.0
TIMEZONE:Europe/Oslo
PRODID:w3-182291@uib.no
URL:https://www.uib.no/nb/foransatte/182291/grunnforst%C3%A5else-av-uib-%C
 3%B8konomien
NAME:Grunnforståelse av UiB-økonomien
BEGIN:VEVENT
UID:w3-182291@uib.no
DTSTAMP:20260415T114118Z
DTSTART:20260504T070000Z
DTEND:20260504T100000Z
SUMMARY:Grunnforståelse av UiB-økonomien
DESCRIPTION:Kurset skal gi en grunnleggende forståelse for
 økonomiske begreper og hvordan statlig økonomi og UiB-økonomien
 virker og spiller sammen.
LOCATION:Nygårdsgaten 5 (UiB Læringsarena kursrom Nordre Allmenning
 3)
URL:https://www.uib.no/nb/foransatte/182291/grunnforst%C3%A5else-av-ui
 b-%C3%B8konomien
CLASS:PUBLIC
TRANSP:TRANSPARENT
END:VEVENT
END:VCALENDAR

