BEGIN:VCALENDAR
VERSION:2.0
TIMEZONE:Europe/Oslo
PRODID:w3-182292@uib.no
URL:https://www.uib.no/nb/foransatte/182292/budsjett-og-%C3%B8konomistyrin
 g
NAME:Budsjett og økonomistyring
BEGIN:VEVENT
UID:w3-182292@uib.no
DTSTAMP:20260415T114820Z
DTSTART:20260511T100000Z
DTEND:20260511T130000Z
SUMMARY:Budsjett og økonomistyring
DESCRIPTION:En overordnet innføring i budsjettering, prognose og
 økonomistyring av totaløkonomien ved UiB. I samlingen vises verktøy
 og metoder og hvordan disse brukes ved UiB.
LOCATION:Nygårdsgaten 5 (UiB Læringsarena kursrom Nordre Allmenning
 3)
URL:https://www.uib.no/nb/foransatte/182292/budsjett-og-%C3%B8konomist
 yring
CLASS:PUBLIC
TRANSP:TRANSPARENT
END:VEVENT
END:VCALENDAR

