BEGIN:VCALENDAR
VERSION:2.0
TIMEZONE:Europe/Oslo
PRODID:w3-182293@uib.no
URL:https://www.uib.no/nb/foransatte/182293/prosjekt%C3%B8konomi
NAME:Prosjektøkonomi 
BEGIN:VEVENT
UID:w3-182293@uib.no
DTSTAMP:20260415T115031Z
DTSTART:20260512T070000Z
DTEND:20260512T100000Z
SUMMARY:Prosjektøkonomi 
DESCRIPTION:Kurset gir en oversikt over regler, begreper og det
 bidrags- og oppdragsfinansierte prosjektets livssyklus fra
 prosjektsøknad til prosjektavslutning.
LOCATION:Nygårdsgaten 5 (UiB Læringsarena kursrom Nordre Allmenning
 3)
URL:https://www.uib.no/nb/foransatte/182293/prosjekt%C3%B8konomi
CLASS:PUBLIC
TRANSP:TRANSPARENT
END:VEVENT
END:VCALENDAR

