BEGIN:VCALENDAR
VERSION:2.0
TIMEZONE:Europe/Oslo
PRODID:w3-182294@uib.no
URL:https://www.uib.no/nb/foransatte/182294/fordring-til-innbetaling
NAME:Fordring til innbetaling
BEGIN:VEVENT
UID:w3-182294@uib.no
DTSTAMP:20260415T115156Z
DTSTART:20260518T100000Z
DTEND:20260518T130000Z
SUMMARY:Fordring til innbetaling
DESCRIPTION:Innføringskurs i Fordring til innbetaling. Tema: Grunnlag
 for faktura, Kunde, Fakturering og kreditering fra prosjektmodulen
 eller kunder- og salgsmodulen, Innbetalinger, Oppfølging av fakturaer
 som ikke blir betalt.
LOCATION:Nygårdsgaten 5 (UiB Læringsarena kursrom Nordre Allmenning
 3)
URL:https://www.uib.no/nb/foransatte/182294/fordring-til-innbetaling
CLASS:PUBLIC
TRANSP:TRANSPARENT
END:VEVENT
END:VCALENDAR

