BEGIN:VCALENDAR
VERSION:2.0
TIMEZONE:Europe/Oslo
PRODID:w3-182295@uib.no
URL:https://www.uib.no/nb/foransatte/182295/regnskap
NAME:Regnskap 
BEGIN:VEVENT
UID:w3-182295@uib.no
DTSTAMP:20260415T115424Z
DTSTART:20260528T100000Z
DTEND:20260528T130000Z
SUMMARY:Regnskap 
DESCRIPTION:Innføringskurs i kontoplanen, omposteringsløsningen,
 anleggsregisteret og periodelukking. Tema: Kontoplanens oppbygging,
 aktivering og avhending i anleggsregisteret, maler i
 omposteringsløsningen og avsetningsbilag.
LOCATION:Nygårdsgaten 5 (UiB Læringsarena kursrom Nordre Allmenning
 3)
URL:https://www.uib.no/nb/foransatte/182295/regnskap
CLASS:PUBLIC
TRANSP:TRANSPARENT
END:VEVENT
END:VCALENDAR

