BEGIN:VCALENDAR
VERSION:2.0
TIMEZONE:Europe/Oslo
PRODID:w3-182296@uib.no
URL:https://www.uib.no/nb/foransatte/182296/merverdiavgift
NAME:Merverdiavgift
BEGIN:VEVENT
UID:w3-182296@uib.no
DTSTAMP:20260415T115628Z
DTSTART:20260602T100000Z
DTEND:20260602T130000Z
SUMMARY:Merverdiavgift
DESCRIPTION:Innføringskurs i håndtering av merverdiavgift ved kjøp
 og salg innland/utland.
LOCATION:Nygårdsgaten 5 (UiB Læringsarena kursrom Nordre Allmenning
 3)
URL:https://www.uib.no/nb/foransatte/182296/merverdiavgift
CLASS:PUBLIC
TRANSP:TRANSPARENT
END:VEVENT
END:VCALENDAR

