BEGIN:VCALENDAR
VERSION:2.0
TIMEZONE:Europe/Oslo
PRODID:w3-182297@uib.no
URL:https://www.uib.no/nb/foransatte/182297/innkj%C3%B8p
NAME:Innkjøp
BEGIN:VEVENT
UID:w3-182297@uib.no
DTSTAMP:20260415T115740Z
DTSTART:20260602T070000Z
DTEND:20260602T100000Z
SUMMARY:Innkjøp
DESCRIPTION:Hvordan gjør vi innkjøp ved UiB. Kurset inneholder en
 introduksjon til offentlig anskaffelser, og en introduksjon av Behov
 til Betaling (BtB-prosessen). herunder prosessen rundt bestilling og
 betaling.
LOCATION:Nygårdsgaten 5 (UiB Læringsarena kursrom Søndre Allmenning
 1)
URL:https://www.uib.no/nb/foransatte/182297/innkj%C3%B8p
CLASS:PUBLIC
TRANSP:TRANSPARENT
END:VEVENT
END:VCALENDAR

