BEGIN:VCALENDAR
VERSION:2.0
TIMEZONE:Europe/Oslo
PRODID:w3-182313@uib.no
URL:https://www.uib.no/nb/ub/spesialsamlingene/182313/seminar-75th-birthda
 y-einar-thomassen
NAME:A seminar for the 75th birthday of Einar Thomassen
BEGIN:VEVENT
UID:w3-182313@uib.no
DTSTAMP:20260417T125215Z
DTSTART:20260420T110000Z
DTEND:20260420T130000Z
SUMMARY:A seminar for the 75th birthday of Einar Thomassen
DESCRIPTION:On Monday, 20 April, from 13:00 to 15:00, we will
 celebrate the 75th birthday of Professor Emeritus Einar Thomassen at
 the Special Collections (HF-bygget, ground floor).
LOCATION:The Special Collections, HF-bygget, ground floor.
URL:https://www.uib.no/nb/ub/spesialsamlingene/182313/seminar-75th-bir
 thday-einar-thomassen
CLASS:PUBLIC
TRANSP:TRANSPARENT
END:VEVENT
END:VCALENDAR

