BEGIN:VCALENDAR
VERSION:2.0
TIMEZONE:Europe/Oslo
PRODID:w3-182314@uib.no
URL:https://www.uib.no/nb/math/182314/kvinner-i-matematikk-2026
NAME:Kvinner i matematikk -  2026
BEGIN:VEVENT
UID:w3-182314@uib.no
DTSTAMP:20260417T132844Z
DTSTART:20260513T130000Z
DTEND:20260513T160000Z
SUMMARY:Kvinner i matematikk -  2026
DESCRIPTION:Matematikk møter film, kunst og musikk i Women in
 Mathematics‑markeringen:  vi viser filmen "Je suis Sophie Germain/I
 am Sophie Germain"
LOCATION:Matematisk institutt
URL:https://www.uib.no/nb/math/182314/kvinner-i-matematikk-2026
CLASS:PUBLIC
TRANSP:TRANSPARENT
END:VEVENT
END:VCALENDAR

