BEGIN:VCALENDAR
VERSION:2.0
TIMEZONE:Europe/Oslo
PRODID:w3-182356@uib.no
URL:https://www.uib.no/nb/biomedisin/182356/bbb-seminar-thomas-pap
NAME:BBB Seminar - Thomas Pap
BEGIN:VEVENT
UID:w3-182356@uib.no
DTSTAMP:20260420T120849Z
DTSTART:20260507T123000Z
DTEND:20260507T133000Z
SUMMARY:BBB Seminar - Thomas Pap
DESCRIPTION:Targeting the joint stroma in autoimmune arthritis:
 pathways, pitfalls, and prospects
LOCATION:Auditorium 4, BBB
URL:https://www.uib.no/nb/biomedisin/182356/bbb-seminar-thomas-pap
CLASS:PUBLIC
TRANSP:TRANSPARENT
END:VEVENT
END:VCALENDAR

