BEGIN:VCALENDAR
VERSION:2.0
TIMEZONE:Europe/Oslo
PRODID:w3-182357@uib.no
URL:https://www.uib.no/nb/biomedisin/182357/bbb-seminar-olivier-keunen
NAME:BBB Seminar - Olivier Keunen
BEGIN:VEVENT
UID:w3-182357@uib.no
DTSTAMP:20260420T121035Z
DTSTART:20260604T123000Z
DTEND:20260604T133000Z
SUMMARY:BBB Seminar - Olivier Keunen
DESCRIPTION:Expanding the reach of MRI using Generative AI and
 Foundation Models
LOCATION:Auditorium at AHH
URL:https://www.uib.no/nb/biomedisin/182357/bbb-seminar-olivier-keunen
CLASS:PUBLIC
TRANSP:TRANSPARENT
END:VEVENT
END:VCALENDAR

