BEGIN:VCALENDAR
VERSION:2.0
TIMEZONE:Europe/Oslo
PRODID:w3-182365@uib.no
URL:https://www.uib.no/nb/igs/182365/pr%C3%B8veforelesning-stand-hiestand
NAME:Prøveforelesning: Stand Hiestand 
BEGIN:VEVENT
UID:w3-182365@uib.no
DTSTAMP:20260421T083823Z
DTSTART:20260504T083000Z
DTEND:20260504T093000Z
SUMMARY:Prøveforelesning: Stand Hiestand 
LOCATION:HUS - Armauer Hansens hus, Auditorium AHH
URL:https://www.uib.no/nb/igs/182365/pr%C3%B8veforelesning-stand-hiest
 and
CLASS:PUBLIC
TRANSP:TRANSPARENT
END:VEVENT
END:VCALENDAR

