BEGIN:VCALENDAR
VERSION:2.0
TIMEZONE:Europe/Oslo
PRODID:w3-182366@uib.no
URL:https://www.uib.no/nb/igs/182366/disputas-stand-hiestand
NAME:Disputas: Stand Hiestand
BEGIN:VEVENT
UID:w3-182366@uib.no
DTSTAMP:20260421T084408Z
DTSTART:20260504T103000Z
DTEND:20260504T140000Z
SUMMARY:Disputas: Stand Hiestand
LOCATION:HUS - Armauer Hansens hus, Auditorium AHH
URL:https://www.uib.no/nb/igs/182366/disputas-stand-hiestand
CLASS:PUBLIC
TRANSP:TRANSPARENT
END:VEVENT
END:VCALENDAR

