BEGIN:VCALENDAR
VERSION:2.0
TIMEZONE:Europe/Oslo
PRODID:w3-182367@uib.no
URL:https://www.uib.no/nb/gov/182367/general-seminar-institutional-weakeni
 ng-pathways-and-processes
NAME:General Seminar: Institutional Weakening: Pathways and Processes
BEGIN:VEVENT
UID:w3-182367@uib.no
DTSTAMP:20260421T093116Z
DTSTART:20260427T121500Z
DTEND:20260427T140000Z
SUMMARY:General Seminar: Institutional Weakening: Pathways and
 Processes
DESCRIPTION:On Monday 27th of april, Professor Daniel M. Brinks at the
 University of Texas at Austin will present a paper titled:
 Institutional Weakening: Pathways and Processes.
LOCATION:Lauritz Meltzers hus (SV-bygget). Meeting room 904.
URL:https://www.uib.no/nb/gov/182367/general-seminar-institutional-wea
 kening-pathways-and-processes
CLASS:PUBLIC
TRANSP:TRANSPARENT
END:VEVENT
END:VCALENDAR

