BEGIN:VCALENDAR
VERSION:2.0
TIMEZONE:Europe/Oslo
PRODID:w3-182372@uib.no
URL:https://www.uib.no/nb/bio/182372/masterpresentasjon-gina-koulibaly-bar
 ry
NAME:Masterpresentasjon Gina Koulibaly Barry
BEGIN:VEVENT
UID:w3-182372@uib.no
DTSTAMP:20260421T114936Z
DTSTART:20260512T110000Z
DTEND:20260512T113000Z
SUMMARY:Masterpresentasjon Gina Koulibaly Barry
LOCATION:Inkubatoren 439C1 (Tormøhlensgt. 55, Bioblokken, 4. etasje)
URL:https://www.uib.no/nb/bio/182372/masterpresentasjon-gina-koulibaly
 -barry
CLASS:PUBLIC
TRANSP:TRANSPARENT
END:VEVENT
END:VCALENDAR

