BEGIN:VCALENDAR
VERSION:2.0
TIMEZONE:Europe/Oslo
PRODID:w3-182374@uib.no
URL:https://www.uib.no/nb/fof/182374/should-empirical-findings-matter-meta
 ethics
NAME:Should empirical findings matter in metaethics?
BEGIN:VEVENT
UID:w3-182374@uib.no
DTSTAMP:20260421T122205Z
DTSTART:20260430T101500Z
DTEND:20260430T120000Z
SUMMARY:Should empirical findings matter in metaethics?
DESCRIPTION:Audun Syltevik vil holde innlegget "Should empirical
 findings matter in metaethics?"
LOCATION:Sydnesplassen 12-13, seminarrom i 1. etg.
URL:https://www.uib.no/nb/fof/182374/should-empirical-findings-matter-
 metaethics
CLASS:PUBLIC
TRANSP:TRANSPARENT
END:VEVENT
END:VCALENDAR

