BEGIN:VCALENDAR
VERSION:2.0
TIMEZONE:Europe/Oslo
PRODID:w3-182415@uib.no
URL:https://www.uib.no/nb/infomedia/182415/infomedia-staff-seminar
NAME:Infomedia staff seminar
BEGIN:VEVENT
UID:w3-182415@uib.no
DTSTAMP:20260422T120058Z
DTSTART:20260429T093000Z
DTEND:20260429T120000Z
SUMMARY:Infomedia staff seminar
DESCRIPTION:Welcome to another fabulous Infomedia staff seminar. Free
 lunch is served from 11.30. You will also enjoy a great lineup of
 speakers.
LOCATION:Meeting room 4.41 (the old canteen) in Christies gate 18. 
URL:https://www.uib.no/nb/infomedia/182415/infomedia-staff-seminar
CLASS:PUBLIC
TRANSP:TRANSPARENT
END:VEVENT
END:VCALENDAR

