BEGIN:VCALENDAR
VERSION:2.0
TIMEZONE:Europe/Oslo
PRODID:w3-182443@uib.no
URL:https://www.uib.no/nb/infomedia/182443/trust-epistemic-repertoires-how
 -young-people-derive-value-instagram-news
NAME: From trust to epistemic repertoires: How young people derive value
 from Instagram news
BEGIN:VEVENT
UID:w3-182443@uib.no
DTSTAMP:20260424T093244Z
DTSTART:20260505T111500Z
DTEND:20260505T123000Z
SUMMARY: From trust to epistemic repertoires: How young people derive
 value from Instagram news
DESCRIPTION:Velkommen til et seminar om tillit til nyheter av
 professor Tim Groot Kormelink (Vrije Universiteit Amsterdam).
LOCATION:Rom 514, Lauritz Meltzers hus
URL:https://www.uib.no/nb/infomedia/182443/trust-epistemic-repertoires
 -how-young-people-derive-value-instagram-news
CLASS:PUBLIC
TRANSP:TRANSPARENT
END:VEVENT
END:VCALENDAR

