BEGIN:VCALENDAR
VERSION:2.0
TIMEZONE:Europe/Oslo
PRODID:w3-182444@uib.no
URL:https://www.uib.no/nb/vitdem/182444/ingemar-meland-og-torgeir-haugen-d
 ydsetikk-og-oppdragelse
NAME:Ingemar Meland og Torgeir Haugen: Dydsetikk og oppdragelse
BEGIN:VEVENT
UID:w3-182444@uib.no
DTSTAMP:20260424T102834Z
DTSTART:20260528T063000Z
DTEND:20260528T080000Z
SUMMARY:Ingemar Meland og Torgeir Haugen: Dydsetikk og oppdragelse
DESCRIPTION:Hvilke relevans har dygslæren og læren om de syv
 dødsyndene i dagens samfunn?
LOCATION:Café Christie (Universitetsmuseet)
URL:https://www.uib.no/nb/vitdem/182444/ingemar-meland-og-torgeir-haug
 en-dydsetikk-og-oppdragelse
CLASS:PUBLIC
TRANSP:TRANSPARENT
END:VEVENT
END:VCALENDAR

