BEGIN:VCALENDAR
VERSION:2.0
TIMEZONE:Europe/Oslo
PRODID:w3-19592@uib.no
URL:https://www.uib.no/nb/grieg/19592/ungdommens-musikkmesterskap
NAME:Ungdommens musikkmesterskap
BEGIN:VEVENT
UID:w3-19592@uib.no
DTSTAMP:20121001T063216Z
DTSTART:20121020T073000Z
DTEND:20121020T160000Z
SUMMARY:Ungdommens musikkmesterskap
LOCATION:Gunnar Sævigs Sal
URL:https://www.uib.no/nb/grieg/19592/ungdommens-musikkmesterskap
CLASS:PUBLIC
TRANSP:TRANSPARENT
END:VEVENT
END:VCALENDAR

