BEGIN:VCALENDAR
VERSION:2.0
TIMEZONE:Europe/Oslo
PRODID:w3-42994@uib.no
URL:https://www.uib.no/nb/grieg/42994/minnekonsert-edvard-hagerup-bull-192
 2-2012
NAME:Minnekonsert for Edvard Hagerup Bull (1922 - 2012)
BEGIN:VEVENT
UID:w3-42994@uib.no
DTSTAMP:20130926T092705Z
DTSTART:20131002T173000Z
DTEND:20131002T183000Z
SUMMARY:Minnekonsert for Edvard Hagerup Bull (1922 - 2012)
DESCRIPTION:Vestfold Komponistgruppe har tatt initiativet til denne
 konserten til minne om komponisten Edvard Hagerup Bull, som gikk bort
 i fjor.
LOCATION:Gunnar Sævigs sal
URL:https://www.uib.no/nb/grieg/42994/minnekonsert-edvard-hagerup-bull
 -1922-2012
CLASS:PUBLIC
TRANSP:TRANSPARENT
END:VEVENT
END:VCALENDAR

