BEGIN:VCALENDAR
VERSION:2.0
TIMEZONE:Europe/Oslo
PRODID:w3-61348@uib.no
URL:https://www.uib.no/nb/geo/61348/lawrence-m-krauss-universe-nothing
NAME:Lawrence M. Krauss - A universe from nothing
BEGIN:VEVENT
UID:w3-61348@uib.no
DTSTAMP:20130408T045628Z
DTSTART:20130410T130000Z
DTEND:20130410T143000Z
SUMMARY:Lawrence M. Krauss - A universe from nothing
LOCATION:Egget, Studentsenteret
URL:https://www.uib.no/nb/geo/61348/lawrence-m-krauss-universe-nothing
CLASS:PUBLIC
TRANSP:TRANSPARENT
END:VEVENT
END:VCALENDAR

